BEGIN:VCALENDAR
VERSION:2.0
PRODID:-//https://stjan.org///NONSGML kigkonsult.se iCalcreator 2.10.15//
METHOD:PUBLISH
BEGIN:VEVENT
UID:20260420T101112CEST-1691j5JAoD@https://stjan.org/
DTSTAMP:20260420T081112Z
DESCRIPTION:De lezing gaat door en zal live uitgezonden worden op de YouTub
 e kaanaal&nbsp\;van de broeders.________________________________\nIn zijn 
 Evangelie benadrukt Johannes de goddelijkheid van Jezus: in zijn proloog i
 ntroduceert hij de hoofdrolspeler\, Jezus\, als hetlevende\, eeuwige vlees
 geworden Woord van God (Johannes 1\,1.14.17). Daar komt in het Evangelie v
 olgens Johannes nog iets bijzonders bij: zeven maal zegt Jezus na de woord
 en ‘Ik ben’ wat of wie Hij is.Bijvoorbeeld “Ik ben het licht van de wereld
 ” (Joh. 8\,12) en “Ik ben de goede herder” (Joh. 10\,11). In het Oude Test
 ament is alleen de HEER het licht en isHij de herder voor zijn volk (Jes. 
 60\,1.19\; Ez. 34\,12-22). Hoe zit het in het Nieuwe Testament?Bij Mattheu
 s en Lucas\, geeft Jezus een indirecte beschrijving van zichzelf in de zal
 igsprekingen\, omdat Jezus degene is die bij uitstek de zaligsprekingen be
 leeft.\nIn deze reeks lezingen zullen we mediteren over wie Jezus is en zi
 en hoe we\, met Hem\, de zaligsprekingen kunnen beleven\, dankzij de genad
 e\, waardoor “niet ik leef\, maar Jezus leeft in mij” (Gal. 2\,20)...\nSpr
 eker: broeder Marie-Thomas\nDatas:\n20 october (GEANULEERD)\n3 november\n1
  december\n12 januari\n23 februari\n13 april\n18 mei https://stjan.org/nl/
 component/rseventspro/evenement/6772-zevenmaal-ik-ben.html
DTSTART:20210413T173000Z
DTEND:20210413T183000Z
LOCATION:Johanneszaal (Oude Molstraat 37 \, 2513 BA \, Den Haag \, NL)
SUMMARY:Zevenmaal “Ik ben”
URL:https://stjan.org/nl/component/rseventspro/evenement/6772-zevenmaal-ik-
 ben.html
END:VEVENT
BEGIN:VEVENT
UID:20260420T101112CEST-1695UkL1wa@https://stjan.org/
DTSTAMP:20260420T081112Z
DESCRIPTION:GEANNULEERD\n“Truly\, I say to you\, whoever does not receive t
 he kingdom of God like a child shall not enter it.” [Lk. 18:17]\nThe quest
 ion of childhood is very present in the Gospels. The saint\, the philosoph
 er and the novelist are concerned by it as well. St. Therese of the Infant
  Jesus\, Nietzsche and Dostoïevski all understood it in their own manner. 
 But all of them understood that this seemingly lost state of childhood has
  to be found back and that our human and spiritual life depend on it. A sm
 all free exploration 'from childhood to childhood'...\nbrother Syméon\nLoc
 ation: Monastic Store\, Oude Molstraat 35\n(The event is for a free partic
 ipation fee. There will be no recording of the event) https://stjan.org/nl
 /component/rseventspro/evenement/6910-geannuleerd-roots-for-growth-5-5.htm
 l
DTSTART:20220614T174500Z
DTEND:20220614T190000Z
LOCATION:Monastic store (Oude Molstraat 35\, Den Haag)
SUMMARY:(GEANNULEERD) Roots for Growth (5/5)
URL:https://stjan.org/nl/component/rseventspro/evenement/6910-geannuleerd-r
 oots-for-growth-5-5.html
END:VEVENT
BEGIN:VEVENT
UID:20260420T101112CEST-16960bn3Tk@https://stjan.org/
DTSTAMP:20260420T081112Z
DESCRIPTION:Is het mogelijk om ook maar een klein beetje van het geheim van
  de Heilige Jozef\, 'de zwijgende man'\, te onthullen?\npater Jan Maria\n1
 ) H. Jozef - Geheimvolle vader (1/3): https://www.youtube.com/watch?v=ewL5
 KwwKrD0\n2) H. Jozef - Geheimvolle vader (2/3): https://www.youtube.com/wa
 tch?v=nTXkj9BibQg\n3) H. Jozef - Geheimvolle vader (3/3): 30 november 2021
  in Johanneszaal\, Oude Molstraat 37\, Den Haag of via YouTube kanaal van 
 de Broeders van Sint Jan:&nbsp\;https://www.youtube.com/c/BroedersvanSintJ
 an https://stjan.org/nl/component/rseventspro/evenement/6942-geheimvolle-v
 ader-heilige-jozef-3-3.html
DTSTART:20211130T184500Z
DTEND:20211130T200000Z
LOCATION:Johanneszaal (Oude Molstraat 37 \, 2513 BA \, Den Haag \, NL)
SUMMARY:Geheimvolle vader - Heilige Jozef (3/3)
URL:https://stjan.org/nl/component/rseventspro/evenement/6942-geheimvolle-v
 ader-heilige-jozef-3-3.html
END:VEVENT
BEGIN:VEVENT
UID:20260420T101112CEST-16986tDDe4@https://stjan.org/
DTSTAMP:20260420T081112Z
DESCRIPTION:Het Eucharistische offer\, 'de bron en het hoogtepunt van het c
 hristelijk leven'\, bevat de volledige rijkdom van de Kerk: Jezus Christus
 \, die zichzelf geeft aan de Vader voor de verlossing van de wereld. Met d
 e hulp van de Encycliek gaan we samen dit mysterie beschouwen.\nbroeder Ma
 rie-Thomas\n- 23/11/2021: Inleiding\, “Het eucharistisch gelaat van Christ
 us” - 07/12/2021: Het eerste hoofdstuk\, 'Het mysterie van het geloof'. - 
 Het offer van het Kruis wordt door de gewijde priester op sacramentele wij
 ze tegenwoordig gesteld in de Heilige Mis.\n- 25/01/2022: Het tweede hoofd
 stuk\, 'De Eucharistie bouwt de Kerk op' - Wanneer de gelovigen naderen to
 t de Heilige Maaltijd ontvangen ze niet alleen Christus\, maar zij worden 
 daarbij tevens ontvangen door Hem zelf.\n- 22/02/2022: Het derde hoofdstuk
 \, 'Apostoliciteit van de Eucharistie en van de Kerk' - De christelijke ge
 meenschap heeft de Eucharistie niet 'in eigendom'\, maar zij ontvangt het 
 als een gave.\n- 15/03/2022: Het vierde hoofdstuk\, 'De Eucharistie en de 
 Kerkelijke gemeenschap' - De Eucharistie creëert eenheid en bouwt eenheid 
 op\, wanneer zij gevierd wordt met alle diepgang die zij heeft.\n- 26/04/2
 022: Het vijfde hoofdstuk\, De waardigheid van de viering van de Eucharist
 ie'  - Het herstellen van de zingeving voor het mooie is ook nodig bij de 
 vieringen in deze tijd\n- 24/05/2022: Het zesde hoofdstuk\, 'In de school 
 van Maria\, 'Vrouw van de Eucharistie' ' en Het slot - De Eucharistie is g
 egeven aan de gelovigen\, zodat hun leven tot een blijvend 'Magnificat' ma
 g worden ter ere van de Allerheiligste Drie-eenheid.\nN.B.: Exemplaren van
  de Encycliek zijn tegen vrijwillige gift bij elke samenkomst beschikbaar 
 https://stjan.org/nl/component/rseventspro/evenement/6944-leesgroep-eccles
 ia-de-eucharistia-7-7.html
DTSTART:20220524T174500Z
DTEND:20220524T190000Z
LOCATION:Johanneszaal (Oude Molstraat 37 \, 2513 BA \, Den Haag \, NL)
SUMMARY:Leesgroep Ecclesia de Eucharistia (7/7)
URL:https://stjan.org/nl/component/rseventspro/evenement/6944-leesgroep-ecc
 lesia-de-eucharistia-7-7.html
END:VEVENT
BEGIN:VEVENT
UID:20260420T101112CEST-1701TMF4J5@https://stjan.org/
DTSTAMP:20260420T081112Z
DESCRIPTION:In deze retraite willen wij dieper ingaan op onze eenheid met J
 ezus zoals de rank verbonden is met de wijnstok.\npater Johan\nAanmelden v
 oor Johannesretraite&nbsp\;(tot met zondag 28-02-2022)\nDe retraite vind p
 laats met verblijf op Oude Molstraat 35 in Den Haag.  https://stjan.org/nl
 /component/rseventspro/evenement/6968-johannesretraite-ii-blijft-in-mij-jn
 -15-3c.html
DTSTART:20220304T170000Z
DTEND:20220306T130000Z
LOCATION:Willibrordushuis (Oude Molstraat 35 \, 2513 BA \, Den Haag \, NL)
SUMMARY:Johannesretraite II. 'Blijft in Mij.' [Jn 15\,3c]
URL:https://stjan.org/nl/component/rseventspro/evenement/6968-johannesretra
 ite-ii-blijft-in-mij-jn-15-3c.html
END:VEVENT
END:VCALENDAR
