BEGIN:VCALENDAR
VERSION:2.0
PRODID:-//https://stjan.org///NONSGML kigkonsult.se iCalcreator 2.10.15//
METHOD:PUBLISH
BEGIN:VEVENT
UID:20260422T200618CEST-5197vebD6h@https://stjan.org/
DTSTAMP:20260422T180618Z
DESCRIPTION:\nThomasclub\n\n https://stjan.org/nl/component/rseventspro/eve
 nement/6319-thomasclub.html?Itemid=380
DTSTART:20190706T164500Z
DTEND:20190706T180000Z
LOCATION:Thomas a Kempis Leerhuis (Broerestraat 12 \, 3532 CP \, Utrecht \,
  NL)
SUMMARY:Thomasclub
URL:https://stjan.org/nl/component/rseventspro/evenement/6319-thomasclub.ht
 ml?Itemid=380
END:VEVENT
END:VCALENDAR
