BEGIN:VCALENDAR
VERSION:2.0
PRODID:-//https://stjan.org///NONSGML kigkonsult.se iCalcreator 2.10.15//
METHOD:PUBLISH
BEGIN:VEVENT
UID:20260420T082449CEST-4200XSDFv8@https://stjan.org/
DTSTAMP:20260420T062449Z
DESCRIPTION:Prophets of our timesModern tyrannies and the revolutions again
 st them\nAre we still free to think and to express ourselves today? Many o
 pinions and ways of life which are often called 'conservative' are taboo a
 nd socially unacceptable. Why\, and how does this happen and what can be d
 one to restore our fundamental freedoms?\nThis course will be in English\n
 Teacher: fr Elias\nCostsThe costs for the course are €20 (three evenings).
  https://stjan.org/nl/component/rseventspro/evenement/6364-cursus-prophets
 -of-our-times.html
DTSTART:20190118T190000Z
DTEND:20190118T203000Z
LOCATION:Thomas a Kempis Leerhuis\, Broerestraat 12\, 3532 CP\, Utrecht (Br
 oerestraat 12\, 3532 CP\, Utrecht)
SUMMARY:Cursus - Prophets of our times
URL:https://stjan.org/nl/component/rseventspro/evenement/6364-cursus-prophe
 ts-of-our-times.html
END:VEVENT
END:VCALENDAR
