BEGIN:VCALENDAR
VERSION:2.0
PRODID:-//https://stjan.org///NONSGML kigkonsult.se iCalcreator 2.10.15//
METHOD:PUBLISH
BEGIN:VEVENT
UID:20260419T191913CEST-5695swfMuO@https://stjan.org/
DTSTAMP:20260419T171913Z
DESCRIPTION:Op zondag 1 oktober zal het jaarlijkse Familiefeest van Sint Ja
 n plaatsvinden. Iedereen die de Familie van Sint Jan wil leren kennen is v
 an harte welkom! Een speciaal welkom aan alle leiding en gezinnen die mee 
 op kamp zijn geweest met Sint Jan LVW! In navolging van vorig jaar\, waari
 n met 'Kom &amp\; Zie' het religieuze leven centraal stond\, is het thema 
 van het aankomende Familiefeest “Kom &amp\; Zie Thuis.”\nDe dag begint met
  een Hoogmis om 10 uur. Aansluitend wordt u ontvangen met koffie en thee o
 p het binnenplein van het Leerhuis achter de kerk en is er een lunch waarv
 oor iedereen iets meebrengt. Graag bij inschrijving aangeven wat u meeneem
 t voor de lunch.\nDe middag wordt gevuld met programma's voor volwassenen\
 , tieners en kinderen. \n&nbsp\;\nMiddagprogramma volwassenen \nEr is een 
 plenaire lezing door de Broeders van Sint Jan over het geloof centraal ste
 llen in alle details van ons leven. Dit wordt gevolgd door gesprek in deel
 groepen met een gespreksleider rond de thema’s digitaal\, gebed\, rentmees
 terschap en prioriteiten stellen. Hoe geven we deze aspecten vorm in het d
 agelijks leven vanuit ons geloof?\n&nbsp\;\nKinderprogramma \nTerwijl de o
 uders in het Leerhuis een programma volgen\, gaan de kinderen spelen in de
  gymzaal naast het Leerhuis. Er kan geknutseld worden\, er is sport en spe
 l\, er kan gebouwd worden\, boekjes lezen etc. Bij mooi weer zullen de kin
 deren voor sport en spel wellicht ook naar het naastgelegen Majellapark ga
 an. Er zullen verschillende groepen zijn met aanbod passend bij de leeftij
 d: opvang voor de allerkleinsten (tot 4 jaar)\, programma voor jonge kinde
 ren (4-6 jaar) en een programma voor oudere kinderen (7-10 jaar). Kinderen
  vanaf 10 jaar mogen kiezen of ze deelnemen aan het kinderprogramma of aan
  het tienerprogramma. Het kinderprogramma wordt begeleid door volwassenen 
 die ervaring hebben met kinderwerk.\n&nbsp\;\nTienerprogramma \nNa het suc
 ces van voorgaande jaren zal er ook deze keer een speciaal tienerprogramma
  zijn onder leiding van Kees van Duijn\, tienerwerker in de Gerardus Majel
 la parochie\, en Broeders van Sint Jan. Het tienerprogramma op het Familie
 feest is onderdeel van de maandelijkse tienerzondagen bij de Broeders in U
 trecht.\n&nbsp\;\nTaartenwedstrijd \nOok dit jaar is er weer een taartenwe
 dstrijd. Wie maakt een mooie taart en slaagt erin de taart te verbinden me
 t het thema? De taarten worden beoordeeld door een jury (de aanwezige kind
 eren) en natuurlijk geproefd!\n&nbsp\;\nDe dag wordt afgesloten met Aanbid
 ding met muziek in de kerk waarbij ook gebedsteams aanwezig zijn.\n&nbsp\;
 \nHet programma ziet er dan zo uit:\n\n\n10:00 Hoogmis\n\n\n11:30 Koffiedr
 inken en lunch\n\n\n12:45 Programma voor volwassenen\, tieners\, kinderen
 \n\n\n14:00 Taartenwedstrijd met koffie/thee\n\n\n15:00 Afsluiting in de k
 erk met Aanbidding\n\n\n15:30 Einde\n\n\nInschrijvenHet is voor de organis
 atie erg fijn als we weten op hoeveel mensen we ongeveer mogen rekenen en 
 wat ieder meeneemt voor de gezamenlijke lunch. Daarom graag inschrijven vi
 a dit formulier. https://stjan.org/nl/component/rseventspro/evenement/7058
 -familiefeest-2023.html
DTSTART:20231001T080000Z
DTEND:20231001T140000Z
LOCATION:Thomas a Kempis Leerhuis\, Broerestraat 12\, 3532 CP\, Utrecht (Br
 oerestraat 12\, 3532 CP\, Utrecht)
SUMMARY:Familiefeest 2023
URL:https://stjan.org/nl/component/rseventspro/evenement/7058-familiefeest-
 2023.html
END:VEVENT
END:VCALENDAR
