BEGIN:VCALENDAR
VERSION:2.0
PRODID:-//https://stjan.org///NONSGML kigkonsult.se iCalcreator 2.10.15//
METHOD:PUBLISH
BEGIN:VEVENT
UID:20260424T223330CEST-5448zmeXHU@https://stjan.org/
DTSTAMP:20260424T203330Z
DESCRIPTION:Wat doe je als katholiek onderwijzer? Leerlingen\, collega's en
  schoolbesturen zijn lang niet altijd gelovig. En Jezus Christus lijkt som
 s teruggedrongen tot een les maatschappijleer. Wat heb je aan je geloof op
  school? Of: Je bent leerkracht op een katholieke basisschool en je weet n
 iet echt wat je daarmee moet? Wat is 'katholiek zijn' überhaupt? Hoe kijke
 n katholieken naar het onderwijs?\nDe Kerk leert heel duidelijk dat leerli
 ngen een vrije wil hebben\, en een verstand\, om te kunnen leren. Om de Wa
 arheid\, en uiteindelijk God te leren kennen. Scholen zijn instrumenten om
  leerlingen te begeleiden in deze zoektocht naar Waarheid en kennis. Dit m
 oet gebeuren vanuit het bewuszijn dat leerlingen geliefd zijn door God. Te
 gelijkertijd moeten zij kunnen vertrouwen op hun omgeving. Het onderwijs h
 oort hiervan doordrongen te zijn. De Katholieke Kerk heeft onderwijzers du
 s heel veel te vertellen. Een katholieke leraar is voor goed onderwijs dus
  onmisbaar!&nbsp\;\nDit studieweekend laat je als onderwijzer zien hoe je 
 als katholiek naar de onderwijzer kijkt\, maar ook naar het kind en naar d
 e taak van de school. Vanuit de filosofie en theologie over de mens\, duik
 en wij snel de praktijk in van alledag. Met deskundigen uit het veld\, met
  elkaar. Het programma begint met een flink debat over “Mama\, Meester of 
 Media – wat beïnvloedt ons het meest?” en sluit af met een intense middag 
 met de bisschop geworden onderwijzer mgr Hendriks (voormalig hoofd van een
  seminarie).&nbsp\;\n\nSoorten vragen?&nbsp\;- Hoe versterkt mijn ‘katholi
 ek- zijn’ mijn ‘leerkracht-zijn?- Wat kun je als katholieke leerkracht bij
 dragen in een ‘seculiere’school?- Hoe combineer ik mijn katholieke geloof 
 met de eisen die de samenleving aan het onderwijs stelt?- Wat voor een inv
 loed heeft het geloof in een schepper voor de kijk op het kind en op het o
 nderwijs?\nLeeftijd: 20-35 jaarKosten: € 45 voor het weekend\, € 30 per da
 g\, studenten € 30\n https://stjan.org/nl/jac/activiteiten/evenement/2929-
 onderwijs-en-katholiek-the-missing-link.html
DTSTART:20121012T163000Z
DTEND:20121013T190000Z
LOCATION:Willibrordushuis (Oude Molstraat 35 \, 2513 BA \, Den Haag \, NL)
SUMMARY:Onderwijs en katholiek: the missing link
URL:https://stjan.org/nl/jac/activiteiten/evenement/2929-onderwijs-en-katho
 liek-the-missing-link.html
END:VEVENT
END:VCALENDAR
