BEGIN:VCALENDAR
VERSION:2.0
PRODID:-//https://stjan.org///NONSGML kigkonsult.se iCalcreator 2.10.15//
METHOD:PUBLISH
BEGIN:VEVENT
UID:20260424T072942CEST-55300mOGw5@https://stjan.org/
DTSTAMP:20260424T052942Z
DESCRIPTION:						 https://stjan.org/nl/stjan-home/activiteiten/evenement/5
 647-gezelligheidsavond.html
DTSTART:20161013T174500Z
DTEND:20161013T203000Z
LOCATION:Vleutenseweg 517\, 3532 HK Utrecht\, The Netherlands (Vleutenseweg
  517\, 3532 HK Utrecht\, The Netherlands)
SUMMARY:Gezelligheidsavond
URL:https://stjan.org/nl/stjan-home/activiteiten/evenement/5647-gezellighei
 dsavond.html
END:VEVENT
END:VCALENDAR
